BEGIN:VCALENDAR
VERSION:2.0
PRODID:-//Konstindex//SV
BEGIN:VEVENT
UID:gallerier-och-museer/stadshallen/fotografiet-200-ar@konstindex.se
DTSTAMP:20260421T081840Z
DTSTART:20260311T150000Z
DTEND:20260311T183000Z
SUMMARY:Vernissage: Fotografiet 200 år - Grupputställning
LOCATION:Stadshallen
URL:https://konstindex.se/gallerier-och-museer/stadshallen/fotografiet-200-ar
END:VEVENT
END:VCALENDAR